BEGIN:VCALENDAR
VERSION:2.0
PRODID:-//www.fbclorena.org//NONSGML kigkonsult.se iCalcreator 2.39.1//
CALSCALE:GREGORIAN
METHOD:PUBLISH
UID:61ac66b2-316d-4491-b886-09675d9ba3da
X-WR-CALNAME:www.fbclorena.org
X-WR-CALDESC:www.fbclorena.org
X-WR-TIMEZONE:America/Los_Angeles
X-LIC-LOCATION:America/Los_Angeles
BEGIN:VEVENT
UID:9fe4e5e0-fbc9-4276-832d-16f8dad12c75
DTSTAMP:20260423T045729Z
CLASS:PUBLIC
DTSTART;TZID=America/Los_Angeles:20260422T180000
DTEND;TZID=America/Los_Angeles:20260422T191500
SUMMARY:AWANA
TRANSP:OPAQUE
BEGIN:VALARM
ACTION:DISPLAY
DESCRIPTION:AWANA
TRIGGER:-PT15M
END:VALARM
END:VEVENT
END:VCALENDAR
